BEGIN:VCALENDAR
VERSION:2.0
PRODID:-//Tea with Mrs.B - ECPv6.15.20//NONSGML v1.0//EN
CALSCALE:GREGORIAN
METHOD:PUBLISH
X-ORIGINAL-URL:https://www.teawithmrsb.com
X-WR-CALDESC:Events for Tea with Mrs.B
REFRESH-INTERVAL;VALUE=DURATION:PT1H
X-Robots-Tag:noindex
X-PUBLISHED-TTL:PT1H
BEGIN:VTIMEZONE
TZID:America/New_York
BEGIN:DAYLIGHT
TZOFFSETFROM:-0500
TZOFFSETTO:-0400
TZNAME:EDT
DTSTART:20240310T070000
END:DAYLIGHT
BEGIN:STANDARD
TZOFFSETFROM:-0400
TZOFFSETTO:-0500
TZNAME:EST
DTSTART:20241103T060000
END:STANDARD
BEGIN:DAYLIGHT
TZOFFSETFROM:-0500
TZOFFSETTO:-0400
TZNAME:EDT
DTSTART:20250309T070000
END:DAYLIGHT
BEGIN:STANDARD
TZOFFSETFROM:-0400
TZOFFSETTO:-0500
TZNAME:EST
DTSTART:20251102T060000
END:STANDARD
BEGIN:DAYLIGHT
TZOFFSETFROM:-0500
TZOFFSETTO:-0400
TZNAME:EDT
DTSTART:20260308T070000
END:DAYLIGHT
BEGIN:STANDARD
TZOFFSETFROM:-0400
TZOFFSETTO:-0500
TZNAME:EST
DTSTART:20261101T060000
END:STANDARD
END:VTIMEZONE
BEGIN:VEVENT
DTSTART;TZID=America/New_York:20251210T103000
DTEND;TZID=America/New_York:20251210T120000
DTSTAMP:20260420T151859
CREATED:20251008T131518Z
LAST-MODIFIED:20251112T163608Z
UID:10000978-1765362600-1765368000@www.teawithmrsb.com
SUMMARY:Retiree Tea
DESCRIPTION:10:30am-12pm\n$38 per person \n\n\nJoin us for a special gathering to celebrate family\, faith\, and the joy of lasting friendship. Whether you’re new to the area\, stepping into a new chapter of life\, or recently retired\, we have a seat waiting just for you! \nThis is a wonderful opportunity to share your wisdom\, values\, and life experiences while enjoying the treasures of the tearoom. Mrs. B’s own journey has been deeply shaped by the love and guidance of her family and elders. Now\, she cherishes watching that same beautiful connection continue between her “mother-in-love\,” who lives nearby\, and her own family. \nFellowship and tea are the perfect way to honor such remarkable women. We can’t wait to spoil you with a proper tea service and the company of other inspiring women embracing this new and meaningful season of life. \n\n\n10:30am – Prayer\n10:45am – Show and Share: Pictures and highlights of family and your favorite lessons in etiquette\n11am – Tea service
URL:https://www.teawithmrsb.com/event/grandmothers-gathering-tea-8/
LOCATION:VA
ATTACH;FMTTYPE=image/jpeg:https://www.teawithmrsb.com/wp-content/uploads/2025/01/IMG_6879.jpeg
END:VEVENT
END:VCALENDAR