BEGIN:VCALENDAR
VERSION:2.0
PRODID:-//Tea with Mrs.B - ECPv6.15.20//NONSGML v1.0//EN
CALSCALE:GREGORIAN
METHOD:PUBLISH
X-ORIGINAL-URL:https://www.teawithmrsb.com
X-WR-CALDESC:Events for Tea with Mrs.B
REFRESH-INTERVAL;VALUE=DURATION:PT1H
X-Robots-Tag:noindex
X-PUBLISHED-TTL:PT1H
BEGIN:VTIMEZONE
TZID:America/New_York
BEGIN:DAYLIGHT
TZOFFSETFROM:-0500
TZOFFSETTO:-0400
TZNAME:EDT
DTSTART:20240310T070000
END:DAYLIGHT
BEGIN:STANDARD
TZOFFSETFROM:-0400
TZOFFSETTO:-0500
TZNAME:EST
DTSTART:20241103T060000
END:STANDARD
BEGIN:DAYLIGHT
TZOFFSETFROM:-0500
TZOFFSETTO:-0400
TZNAME:EDT
DTSTART:20250309T070000
END:DAYLIGHT
BEGIN:STANDARD
TZOFFSETFROM:-0400
TZOFFSETTO:-0500
TZNAME:EST
DTSTART:20251102T060000
END:STANDARD
BEGIN:DAYLIGHT
TZOFFSETFROM:-0500
TZOFFSETTO:-0400
TZNAME:EDT
DTSTART:20260308T070000
END:DAYLIGHT
BEGIN:STANDARD
TZOFFSETFROM:-0400
TZOFFSETTO:-0500
TZNAME:EST
DTSTART:20261101T060000
END:STANDARD
END:VTIMEZONE
BEGIN:VEVENT
DTSTART;TZID=America/New_York:20251002T080000
DTEND;TZID=America/New_York:20251002T170000
DTSTAMP:20260424T142152
CREATED:20250806T155157Z
LAST-MODIFIED:20250812T154009Z
UID:10000953-1759392000-1759424400@www.teawithmrsb.com
SUMMARY:Manners and Tea Camp
DESCRIPTION:Ages: 4 and older (must be potty trained) \nIt is no secret interaction with peers is a key component to a well-rounded education and upbringing. This small camp environment allows children to enjoy the merits of a comfortable and safe setting for social interaction\, hosted by caring staff. Manners Camp is an on-going skill building program\, encouraging positive behaviors\, responsibility and good old-fashioned fun. Lessons in etiquette and social graces along with arts\, crafts and creative play for every age is a staple to each day. \nSee below for details about our Counselor in Training (CIT) Program for children 10 years and older. \nLUNCHYou may send your child with a packed lunch. We also offer catered lunch by Northside Social. Orders are taken upon arrival and options include: chicken strips\, hamburger or cheeseburger\, cheese or pepperoni pizza\, peanut butter and jelly on croissant or house salad. All entrees come with chips and fresh fruit. \nEXTENDED CAREEarly bird drop-off (8-9am) and Late Owl pick-up (3-5pm) are included in Extended Care. This is a flat rate\, which is not pro-rated for singular attendance to morning or afternoon care. Late pick-ups may be charged Extended Care fee. Any pick-ups after 5pm will be charged a late fee. \nSCHEDULE8-9am: Early Bird drop off9-3pm: CAMP9-10am: Morning exercises (treasure hunts\, dancing\, & more!)10-11:15am: Table manners and tea time11:15-12:00pm: Clean up and play time12-1pm: Semi-fancy lunch followed by big screen movie time to rest1-2pm: Outdoor games (weather permitting)2-2:45pm: Arts & crafts2:45-3pm: Clean up and prepare for parent pick up3-5pm: Late Owl pick up \nREFUNDS/CANCELLATIONSCamp reservations are non-refundable. It is our pleasure to transfer your registration with at least one week notice to any available date through the remainder of the year. \nCOUNSELOR IN TRAINING PROGRAM (CIT) \nThis program is a wonderful addition to our Manners and Tea Camp and geared specifically for older campers who feel they have grown out of the normal camp but still enjoy the tearoom (10 years and older). \nCITs take a more active leadership role in learning effective ways to interact with younger children\, help with set up\, cleanup and transitioning between crafts and activities. They have a behind the scenes view of camp and become part a valued part of our TEAm. CITs receive advanced training in the art of etiquette and social graces while also enjoying a spot of tea and all the other fun aspects of camp. \nStaff will work with CITs to develop a more advanced approach to the skills we teach and model as well as review their progress and performance. \nPlease register your child for camp as you would normally but in the notes section mention you are registering as a CIT. We offer no more than two CIT position per camp.
URL:https://www.teawithmrsb.com/event/manners-and-tea-camp-25/
LOCATION:Tea with Mrs. B\, 136 W. Jefferson St\, Falls Church\, VA\, 22046\, United States
ATTACH;FMTTYPE=image/jpeg:https://www.teawithmrsb.com/wp-content/uploads/2024/12/IMG_1190.jpeg
GEO:38.8872627;-77.1657816
X-APPLE-STRUCTURED-LOCATION;VALUE=URI;X-ADDRESS=Tea with Mrs. B 136 W. Jefferson St Falls Church VA 22046 United States;X-APPLE-RADIUS=500;X-TITLE=136 W. Jefferson St:geo:-77.1657816,38.8872627
END:VEVENT
BEGIN:VEVENT
DTSTART;TZID=America/New_York:20251002T170000
DTEND;TZID=America/New_York:20251002T183000
DTSTAMP:20260424T142152
CREATED:20250723T034206Z
LAST-MODIFIED:20250820T125004Z
UID:10000952-1759424400-1759429800@www.teawithmrsb.com
SUMMARY:Cotillion with Mrs. B (Elementary)
DESCRIPTION:Three Thursdays: Sept. 18\, 25 & Oct. 2\n5–6:30pm \n$250 \n  \nReady to raise the bar on elegance and ease? This three-week cotillion series is a hands-on journey into the world of social grace. \nFrom mastering introductions to navigating European and Continental dining styles\, your child will gain confidence\, charm\, and composure—all with a touch of whimsy in a most delightful setting. \nWhat is Included:\nSept. 18 – Communication Skills: Introductions\, Salutations & Body Language (with hors d’oeuvres & beverages)\nSept. 25 – Dining Skills Part 1: European Style Dining (includes seated tea service)\nOct. 2 – Dining Skills Part 2: Continental Style Dining (includes seated tea service) \nDress Code:\nLadies: Dresses\, skirts\, or classy slacks with flats or low heels.\nGentlemen: Collared shirts and pressed shorts—or elevate with slacks and a tie. \nBecause good manners never go out of style—and confidence is always in fashion. \n\n\n\n\n\nRegistration for the full 3-week series is required to attend. Late registrations are welcome; however\, tickets must be purchased for the full series on the start date\, Sept. 18.  \nIf you have a teen who would like to develop their comportment\, interview skills\, or other valuable life lessons\, please email us at info@teawithmrsb.com to inquire about private sessions.
URL:https://www.teawithmrsb.com/event/cotillion-with-mrs-b-8-12yo/
LOCATION:Tea with Mrs. B\, 136 W. Jefferson St\, Falls Church\, VA\, 22046\, United States
ATTACH;FMTTYPE=image/jpeg:https://www.teawithmrsb.com/wp-content/uploads/2024/08/1D113779-9682-4597-AC48-515F31C96862.jpg
GEO:38.8872627;-77.1657816
X-APPLE-STRUCTURED-LOCATION;VALUE=URI;X-ADDRESS=Tea with Mrs. B 136 W. Jefferson St Falls Church VA 22046 United States;X-APPLE-RADIUS=500;X-TITLE=136 W. Jefferson St:geo:-77.1657816,38.8872627
END:VEVENT
BEGIN:VEVENT
DTSTART;TZID=America/New_York:20251005T130000
DTEND;TZID=America/New_York:20251005T143000
DTSTAMP:20260424T142152
CREATED:20250905T154615Z
LAST-MODIFIED:20250913T091110Z
UID:10000993-1759669200-1759674600@www.teawithmrsb.com
SUMMARY:Toddler to Teen Tea with Mrs. B
DESCRIPTION:You’re Invited: Toddler to Teen Tea Time! \nWe are delighted to welcome you to one of our most cherished public gatherings — Toddler Tea\, now with a special invitation extended to teens as well! \nThis intimate\, public event offers a decadent tea experience for children of all ages — from toddlers to teens — accompanied by a caring adult. Whether your little one is just learning to sit at the table or your teen is refining their social grace\, everyone is invited to enjoy a beautiful setting\, delicious treats\, and the joy of good company. \nWorried your toddler or teen might be a bit too spirited for tea time? Don’t be! Mrs. B believes even the least among us deserve to enjoy the finer things. This event is all about learning through experience — practicing poise\, politeness\, and making new friends of all ages in a welcoming environment. \nPlease note: This is a public event designed to foster connection. To preserve the spirit of the gathering\, we kindly ask guests refrain from bulk bookings. \nPlease contact us at Info@TeawithMrsB.com if you are unable to attend but want to schedule your own SMALL GROUP\, PRIVATE TEA PARTY.
URL:https://www.teawithmrsb.com/event/toddler-teen-tea/
LOCATION:Tea with Mrs. B\, 136 W. Jefferson St\, Falls Church\, VA\, 22046\, United States
ATTACH;FMTTYPE=image/jpeg:https://www.teawithmrsb.com/wp-content/uploads/2021/05/IMG_5897.jpeg
GEO:38.8872627;-77.1657816
X-APPLE-STRUCTURED-LOCATION;VALUE=URI;X-ADDRESS=Tea with Mrs. B 136 W. Jefferson St Falls Church VA 22046 United States;X-APPLE-RADIUS=500;X-TITLE=136 W. Jefferson St:geo:-77.1657816,38.8872627
END:VEVENT
END:VCALENDAR