BEGIN:VCALENDAR
VERSION:2.0
PRODID:-//Tea with Mrs.B - ECPv6.15.20//NONSGML v1.0//EN
CALSCALE:GREGORIAN
METHOD:PUBLISH
X-ORIGINAL-URL:https://www.teawithmrsb.com
X-WR-CALDESC:Events for Tea with Mrs.B
REFRESH-INTERVAL;VALUE=DURATION:PT1H
X-Robots-Tag:noindex
X-PUBLISHED-TTL:PT1H
BEGIN:VTIMEZONE
TZID:America/New_York
BEGIN:DAYLIGHT
TZOFFSETFROM:-0500
TZOFFSETTO:-0400
TZNAME:EDT
DTSTART:20240310T070000
END:DAYLIGHT
BEGIN:STANDARD
TZOFFSETFROM:-0400
TZOFFSETTO:-0500
TZNAME:EST
DTSTART:20241103T060000
END:STANDARD
BEGIN:DAYLIGHT
TZOFFSETFROM:-0500
TZOFFSETTO:-0400
TZNAME:EDT
DTSTART:20250309T070000
END:DAYLIGHT
BEGIN:STANDARD
TZOFFSETFROM:-0400
TZOFFSETTO:-0500
TZNAME:EST
DTSTART:20251102T060000
END:STANDARD
BEGIN:DAYLIGHT
TZOFFSETFROM:-0500
TZOFFSETTO:-0400
TZNAME:EDT
DTSTART:20260308T070000
END:DAYLIGHT
BEGIN:STANDARD
TZOFFSETFROM:-0400
TZOFFSETTO:-0500
TZNAME:EST
DTSTART:20261101T060000
END:STANDARD
END:VTIMEZONE
BEGIN:VEVENT
DTSTART;TZID=America/New_York:20250907T163000
DTEND;TZID=America/New_York:20250907T183000
DTSTAMP:20260425T135534
CREATED:20250804T150353Z
LAST-MODIFIED:20250815T182132Z
UID:10000960-1757262600-1757269800@www.teawithmrsb.com
SUMMARY:Downton Abbey: The Grand Finale Tea
DESCRIPTION:You are cordially invited to our seated tea service in celebration of Downton Abbey: The Grand Finale movie premiere and the much-anticipated conclusion to the beloved series. In collaboration with Focus Features\, we invite you to step into the elegance of the 1930’s for a charming and immersive Downton Abbey themed tea experience. \nResplendent tablescapes\, fresh floral arrangements\, delicate sweets and savories served in a most charming setting. The best part of any experience is the human connection. Our staff will spoil and serve you with an old-fashioned charm. Surrounded by timeless treasures and a nostalgic ambiance\, you will be transported into a storybook afternoon of refinement and delight. \nTo make this occasion even more memorable\, each guest will receive Downton Abbey tote bags and tea. Tea with Mrs. B will offer one giveaway to include a pair of tickets to Olfactory DC for a scent-making workshop. \nDress to impress or enjoy some of Mrs. B’s accessories to step into the world of aristocratic charm and timeless style. \nThis event is an official collaboration with Downton Abbey: The Grand Finale.
URL:https://www.teawithmrsb.com/event/downton-abbey-the-grand-finale-tea/
LOCATION:Tea with Mrs. B\, 136 W. Jefferson St\, Falls Church\, VA\, 22046\, United States
ATTACH;FMTTYPE=image/jpeg:https://www.teawithmrsb.com/wp-content/uploads/2025/08/thumbnail_image001.jpg
GEO:38.8872627;-77.1657816
X-APPLE-STRUCTURED-LOCATION;VALUE=URI;X-ADDRESS=Tea with Mrs. B 136 W. Jefferson St Falls Church VA 22046 United States;X-APPLE-RADIUS=500;X-TITLE=136 W. Jefferson St:geo:-77.1657816,38.8872627
END:VEVENT
END:VCALENDAR