BEGIN:VCALENDAR
VERSION:2.0
PRODID:-//Tea with Mrs.B - ECPv6.15.20//NONSGML v1.0//EN
CALSCALE:GREGORIAN
METHOD:PUBLISH
X-WR-CALNAME:Tea with Mrs.B
X-ORIGINAL-URL:https://www.teawithmrsb.com
X-WR-CALDESC:Events for Tea with Mrs.B
REFRESH-INTERVAL;VALUE=DURATION:PT1H
X-Robots-Tag:noindex
X-PUBLISHED-TTL:PT1H
BEGIN:VTIMEZONE
TZID:America/New_York
BEGIN:DAYLIGHT
TZOFFSETFROM:-0500
TZOFFSETTO:-0400
TZNAME:EDT
DTSTART:20240310T070000
END:DAYLIGHT
BEGIN:STANDARD
TZOFFSETFROM:-0400
TZOFFSETTO:-0500
TZNAME:EST
DTSTART:20241103T060000
END:STANDARD
BEGIN:DAYLIGHT
TZOFFSETFROM:-0500
TZOFFSETTO:-0400
TZNAME:EDT
DTSTART:20250309T070000
END:DAYLIGHT
BEGIN:STANDARD
TZOFFSETFROM:-0400
TZOFFSETTO:-0500
TZNAME:EST
DTSTART:20251102T060000
END:STANDARD
BEGIN:DAYLIGHT
TZOFFSETFROM:-0500
TZOFFSETTO:-0400
TZNAME:EDT
DTSTART:20260308T070000
END:DAYLIGHT
BEGIN:STANDARD
TZOFFSETFROM:-0400
TZOFFSETTO:-0500
TZNAME:EST
DTSTART:20261101T060000
END:STANDARD
END:VTIMEZONE
BEGIN:VEVENT
DTSTART;VALUE=DATE:20250421
DTEND;VALUE=DATE:20250426
DTSTAMP:20260423T144947
CREATED:20250314T144053Z
LAST-MODIFIED:20250410T145324Z
UID:10000934-1745193600-1745625599@www.teawithmrsb.com
SUMMARY:Spring Break Manners & Tea Camp
DESCRIPTION:Ages: 4 and older (must be potty trained) \nIt is no secret interaction with peers is a key component to a well-rounded education and upbringing. This small camp environment allows children to enjoy the merits of a comfortable and safe setting for social interaction\, hosted by caring staff. Manners Camp is an on-going skill building program\, encouraging positive behaviors\, responsibility and good old-fashioned fun. Lessons in etiquette and social graces along with arts\, crafts and creative play for every age is a staple to each day. \nSee below for details about our Counselor in Training (CIT) Program for children 11 years and older. \nLUNCHYou may send your child with a packed lunch. We also offer catered lunch by Northside Social. Orders are taken upon arrival and options include: chicken strips\, hamburger or cheeseburger\, cheese or pepperoni pizza\, peanut butter and jelly on croissant or house salad. All entrees come with chips and fresh fruit. \nEXTENDED CAREEarly bird drop-off (8-9am) and Late Owl pick-up (3-5pm) are included in Extended Care. This is a flat rate\, which is not pro-rated for singular attendance to morning or afternoon care. Late pick-ups may be charged Extended Care fee. Any pick-ups after 5pm will be charged a late fee. \nSCHEDULE8-9am: Early Bird drop off9-3pm: CAMP9-10am: Morning exercises (treasure hunts\, dancing\, & more!)10-11:15am: Table manners and tea time11:15-12:00pm: Clean up and play time12-1pm: Semi-fancy lunch followed by big screen movie time to rest1-2pm: Outdoor games (weather permitting)2-2:45pm: Arts & crafts2:45-3pm: Clean up and prepare for parent pick up3-5pm: Late Owl pick up \nREFUNDS/CANCELLATIONSCamp reservations are non-refundable. It is our pleasure to transfer your registration with at least one week notice to any available date through the remainder of the year. \nCOUNSELOR IN TRAINING PROGRAM (CIT) \nThis program is a wonderful addition to our Manners and Tea Camp and geared specifically for older campers who feel they have grown out of the normal camp but still enjoy the tearoom (11 years and older). \nCITs take a more active leadership role in learning effective ways to interact with younger children\, help with set up\, cleanup and transitioning between crafts and activities. They have a behind the scenes view of camp and become part a valued part of our TEAm. CITs receive advanced training in the art of etiquette and social graces while also enjoying a spot of tea and all the other fun aspects of camp. \nStaff will work with CITs to develop a more advanced approach to the skills we teach and model as well as review their progress and performance. \nPlease register your child for camp as you would normally but in the notes section mention you are registering as a CIT. We offer no more than two CIT position per camp.
URL:https://www.teawithmrsb.com/event/spring-break-manners-tea-camp/
LOCATION:Tea with Mrs. B\, 136 W. Jefferson St\, Falls Church\, VA\, 22046\, United States
ATTACH;FMTTYPE=image/jpeg:https://www.teawithmrsb.com/wp-content/uploads/2025/01/IMG_1167.jpeg
GEO:38.8872627;-77.1657816
X-APPLE-STRUCTURED-LOCATION;VALUE=URI;X-ADDRESS=Tea with Mrs. B 136 W. Jefferson St Falls Church VA 22046 United States;X-APPLE-RADIUS=500;X-TITLE=136 W. Jefferson St:geo:-77.1657816,38.8872627
END:VEVENT
BEGIN:VEVENT
DTSTART;TZID=America/New_York:20250426T100000
DTEND;TZID=America/New_York:20250426T113000
DTSTAMP:20260423T144947
CREATED:20250105T005224Z
LAST-MODIFIED:20250414T112425Z
UID:10000833-1745661600-1745667000@www.teawithmrsb.com
SUMMARY:Easter & Spring Blossom Tea
DESCRIPTION:10-11:30am\nAll Ages Welcome\nChildren must be accompanied by an adult \nAllow us to treat your child and you to a special Saturday morning Easter and Spring Blossom Tea Party. \nPictures with a real live bunny\, little baby chicks and an Easter egg hunt extravaganza will delight guests of all ages. This festive tea\, designed as a public event for children and adults to attend together\, encourages meeting new people\, practicing good manners\, and experiencing the tea room at its finest. \nMrs. B believes we all learn best when we actually walk through the motions\, sipping from real china and enjoying a variety of delicate treats. \nPlease refrain from purchasing more than six tickets for your group.
URL:https://www.teawithmrsb.com/event/easter-blossom/
LOCATION:Tea with Mrs. B\, 136 W. Jefferson St\, Falls Church\, VA\, 22046\, United States
ATTACH;FMTTYPE=image/jpeg:https://www.teawithmrsb.com/wp-content/uploads/2022/11/IMG_1965.jpeg
ORGANIZER;CN="Tea with Mrs. B":MAILTO:info@teawithmrsb.com
GEO:38.8872627;-77.1657816
X-APPLE-STRUCTURED-LOCATION;VALUE=URI;X-ADDRESS=Tea with Mrs. B 136 W. Jefferson St Falls Church VA 22046 United States;X-APPLE-RADIUS=500;X-TITLE=136 W. Jefferson St:geo:-77.1657816,38.8872627
END:VEVENT
BEGIN:VEVENT
DTSTART;TZID=America/New_York:20250426T130000
DTEND;TZID=America/New_York:20250426T143000
DTSTAMP:20260423T144947
CREATED:20250421T201840Z
LAST-MODIFIED:20250421T201840Z
UID:10000937-1745672400-1745677800@www.teawithmrsb.com
SUMMARY:Dining Etiquette & Tea (9-12yo)
DESCRIPTION:$78 per person (includes tea)\n9-12 years old \nTHIS SATURDAY\, April 26 at 1pm \nJust added by special request…Dining Etiquette & Tea with Mrs. B for older children! We want to help you bring out the best in your child. \nReserve a seat for this extra special tea party + etiquette training. This impromptu class is an opportunity to reset and refresh your maturing child’s presence at the dining table and in social settings. We will strengthen communication skills through conversation and consider first impressions as we navigating a proper tea service. \nWe are passionate about teaching practical manners in the most engaging and impressionable way. Good manners\, after all\, are a ticket to elevated experiences and good times in life. The way one behaves is a gift to oneself and to others. The lessons can be catered to those attending\, but will also include: \n– introductions\n– carrying on conversation\n– reading social queues\n– table settings\n– serving ourselves and others\n– using utensils properly\n– anticipating and reacting kindly \nConfidence is gained\, one tea party at a time.
URL:https://www.teawithmrsb.com/event/dining-etiquette-tea-9-12yo/
LOCATION:Tea with Mrs. B\, 136 W. Jefferson St\, Falls Church\, VA\, 22046\, United States
ATTACH;FMTTYPE=image/jpeg:https://www.teawithmrsb.com/wp-content/uploads/2025/01/thumbnail_IMG_2843.jpg
GEO:38.8872627;-77.1657816
X-APPLE-STRUCTURED-LOCATION;VALUE=URI;X-ADDRESS=Tea with Mrs. B 136 W. Jefferson St Falls Church VA 22046 United States;X-APPLE-RADIUS=500;X-TITLE=136 W. Jefferson St:geo:-77.1657816,38.8872627
END:VEVENT
END:VCALENDAR