BEGIN:VCALENDAR
VERSION:2.0
PRODID:-//Tea with Mrs.B - ECPv6.15.20//NONSGML v1.0//EN
CALSCALE:GREGORIAN
METHOD:PUBLISH
X-ORIGINAL-URL:https://www.teawithmrsb.com
X-WR-CALDESC:Events for Tea with Mrs.B
REFRESH-INTERVAL;VALUE=DURATION:PT1H
X-Robots-Tag:noindex
X-PUBLISHED-TTL:PT1H
BEGIN:VTIMEZONE
TZID:America/New_York
BEGIN:DAYLIGHT
TZOFFSETFROM:-0500
TZOFFSETTO:-0400
TZNAME:EDT
DTSTART:20240310T070000
END:DAYLIGHT
BEGIN:STANDARD
TZOFFSETFROM:-0400
TZOFFSETTO:-0500
TZNAME:EST
DTSTART:20241103T060000
END:STANDARD
BEGIN:DAYLIGHT
TZOFFSETFROM:-0500
TZOFFSETTO:-0400
TZNAME:EDT
DTSTART:20250309T070000
END:DAYLIGHT
BEGIN:STANDARD
TZOFFSETFROM:-0400
TZOFFSETTO:-0500
TZNAME:EST
DTSTART:20251102T060000
END:STANDARD
BEGIN:DAYLIGHT
TZOFFSETFROM:-0500
TZOFFSETTO:-0400
TZNAME:EDT
DTSTART:20260308T070000
END:DAYLIGHT
BEGIN:STANDARD
TZOFFSETFROM:-0400
TZOFFSETTO:-0500
TZNAME:EST
DTSTART:20261101T060000
END:STANDARD
END:VTIMEZONE
BEGIN:VEVENT
DTSTART;TZID=America/New_York:20250212T090000
DTEND;TZID=America/New_York:20250212T150000
DTSTAMP:20260419T093152
CREATED:20250212T001234Z
LAST-MODIFIED:20250212T005110Z
UID:10000929-1739350800-1739372400@www.teawithmrsb.com
SUMMARY:SNOW DAY CAMP
DESCRIPTION:SNOW DAY CAMP! \nAges: 4 and older (must be potty trained) \n9-3pm only \nIt is no secret interaction with peers is a key component to a well-rounded education and upbringing. This small camp environment allows children to enjoy the merits of a comfortable and safe setting for social interaction\, hosted by caring staff. Manners Camp is an on-going skill building program\, encouraging positive behaviors\, responsibility and good old-fashioned fun. Lessons in etiquette and social graces along with arts\, crafts and creative play for every age is a staple to each day. \nSee below for details about our Counselor in Training (CIT) Program for children 11 years and older. \nLUNCHYou may send your child with a packed lunch. We also offer catered lunch by Northside Social. Orders are taken upon arrival and options include: chicken strips\, hamburger or cheeseburger\, cheese or pepperoni pizza\, peanut butter and jelly on croissant or house salad. All entrees come with chips and fresh fruit. \nSCHEDULE9-3pm: CAMP9-10am: Morning exercises (treasure hunts\, dancing\, & more!)10-11:15am: Table manners and tea time11:15-12:00pm: Clean up and play time12-1pm: Semi-fancy lunch followed by big screen movie time to rest1-2pm: Outdoor games (weather permitting)2-2:45pm: Arts & crafts2:45-3pm: Clean up and prepare for parent pick upREFUNDS/CANCELLATIONSCamp reservations are non-refundable. It is our pleasure to transfer your registration with at least one week notice to any available date through the remainder of the year. \nCOUNSELOR IN TRAINING PROGRAM (CIT) \nThis program is a wonderful addition to our Manners and Tea Camp and geared specifically for older campers who feel they have grown out of the normal camp but still enjoy the tearoom (11 years and older). \nCITs take a more active leadership role in learning effective ways to interact with younger children\, help with set up\, cleanup and transitioning between crafts and activities. They have a behind the scenes view of camp and become part a valued part of our TEAm. CITs receive advanced training in the art of etiquette and social graces while also enjoying a spot of tea and all the other fun aspects of camp. \nStaff will work with CITs to develop a more advanced approach to the skills we teach and model as well as review their progress and performance. \nPlease register your child for camp as you would normally but in the notes section mention you are registering as a CIT. We offer no more than two CIT position per camp.
URL:https://www.teawithmrsb.com/event/snow-day-camp-5/
LOCATION:Tea with Mrs. B\, 136 W. Jefferson St\, Falls Church\, VA\, 22046\, United States
ATTACH;FMTTYPE=image/jpeg:https://www.teawithmrsb.com/wp-content/uploads/2025/01/IMG_2657-1.jpeg
GEO:38.8872627;-77.1657816
X-APPLE-STRUCTURED-LOCATION;VALUE=URI;X-ADDRESS=Tea with Mrs. B 136 W. Jefferson St Falls Church VA 22046 United States;X-APPLE-RADIUS=500;X-TITLE=136 W. Jefferson St:geo:-77.1657816,38.8872627
END:VEVENT
BEGIN:VEVENT
DTSTART;TZID=America/New_York:20250212T190000
DTEND;TZID=America/New_York:20250212T210000
DTSTAMP:20260419T093152
CREATED:20250115T175526Z
LAST-MODIFIED:20250115T184349Z
UID:10000923-1739386800-1739394000@www.teawithmrsb.com
SUMMARY:Mahjong League
DESCRIPTION:Mahjong League\nHosted by Tori Rittinger\nTalk Tiles to Me \nSession 1: Jan 15\, 22\, 29\, Feb. 5 – SOLD OUT\nSession 2: Feb.12\, 19\, 26\, March 5 \nMahjong registration link: https://calendly.com/talktilestome/mahjong-league-session-2
URL:https://www.teawithmrsb.com/event/mahjong/2025-02-12/
LOCATION:Tea with Mrs. B\, 136 W. Jefferson St\, Falls Church\, VA\, 22046\, United States
GEO:38.8872627;-77.1657816
X-APPLE-STRUCTURED-LOCATION;VALUE=URI;X-ADDRESS=Tea with Mrs. B 136 W. Jefferson St Falls Church VA 22046 United States;X-APPLE-RADIUS=500;X-TITLE=136 W. Jefferson St:geo:-77.1657816,38.8872627
END:VEVENT
BEGIN:VEVENT
DTSTART;TZID=America/New_York:20250213T130000
DTEND;TZID=America/New_York:20250213T173000
DTSTAMP:20260419T093152
CREATED:20250104T214304Z
LAST-MODIFIED:20250211T151957Z
UID:10000781-1739451600-1739467800@www.teawithmrsb.com
SUMMARY:St. Valentine's Tea
DESCRIPTION:1-2:30pm\n4-5:30pm\n$78 per person (please purchase one ticket per person) \n\nMay we have the honor of treating you and your special loved one to tea? Private tables will be set to for each party. Please no more than six guests per party. The tea room will be decorated to impress–perfect for pictures or simply enjoying eye candy. A decadent tea service with dainty savories and desserts will spoil even the sweetest among us. Please come dressed in your Sunday best and we will take care of the rest – accessories galore with hats\, fascinators\, tiaras\, baubles and bows. \nWe are delighted to serve you and yours for this special public tea!
URL:https://www.teawithmrsb.com/event/st-valentines-tea-5/
LOCATION:Tea with Mrs. B\, 136 W. Jefferson St\, Falls Church\, VA\, 22046\, United States
ATTACH;FMTTYPE=image/jpeg:https://www.teawithmrsb.com/wp-content/uploads/2023/12/IMG_3867.jpg
GEO:38.8872627;-77.1657816
X-APPLE-STRUCTURED-LOCATION;VALUE=URI;X-ADDRESS=Tea with Mrs. B 136 W. Jefferson St Falls Church VA 22046 United States;X-APPLE-RADIUS=500;X-TITLE=136 W. Jefferson St:geo:-77.1657816,38.8872627
END:VEVENT
BEGIN:VEVENT
DTSTART;TZID=America/New_York:20250214T100000
DTEND;TZID=America/New_York:20250214T143000
DTSTAMP:20260419T093152
CREATED:20250104T220734Z
LAST-MODIFIED:20250211T152213Z
UID:10000816-1739527200-1739543400@www.teawithmrsb.com
SUMMARY:St. Valentine's Tea
DESCRIPTION:10-11:30am\n1-2:30pm \n$78 per person (please purchase one ticket per person) \n\n\nMay we have the honor of treating you and your special loved one to tea? Private tables will be set to for each party. Please no more than five guests per party. The tea room will be decorated to impress–perfect for pictures or simply enjoying eye candy. A decadent tea service with dainty savories and desserts will spoil even the sweetest among us. Please come dressed in your Sunday best and we will take care of the rest – accessories galore with hats\, fascinators\, tiaras\, baubles and bows. \n\n\nWe are delighted to serve you and yours for this special public tea!
URL:https://www.teawithmrsb.com/event/st-valentines-tea-7/
LOCATION:Tea with Mrs. B\, 136 W. Jefferson St\, Falls Church\, VA\, 22046\, United States
ATTACH;FMTTYPE=image/jpeg:https://www.teawithmrsb.com/wp-content/uploads/2025/01/IMG_9649.jpeg
GEO:38.8872627;-77.1657816
X-APPLE-STRUCTURED-LOCATION;VALUE=URI;X-ADDRESS=Tea with Mrs. B 136 W. Jefferson St Falls Church VA 22046 United States;X-APPLE-RADIUS=500;X-TITLE=136 W. Jefferson St:geo:-77.1657816,38.8872627
END:VEVENT
BEGIN:VEVENT
DTSTART;TZID=America/New_York:20250215T100000
DTEND;TZID=America/New_York:20250215T110000
DTSTAMP:20260419T093152
CREATED:20250104T222358Z
LAST-MODIFIED:20250113T201015Z
UID:10000783-1739613600-1739617200@www.teawithmrsb.com
SUMMARY:German Tea Party & Play
DESCRIPTION:Toddlers and older accompanied by an adult\n$58 per person \n\n\nWe are delighted to invite you to our German Tea Party & Playtime. Come meet our lovely Mrs. Fleur\, who will share her German heritage. Sipping tea or lemonade while enjoying tea treats and laughter\, all in German! This special sophisticated outing for children and adults alike will help make formal\, fancy and German fun part of your routine. \n\n\nWhether you are in the German community\, what to share with your child about other cultures or are just curious\, everyone is welcome! \n\n\n‘Bis bald!’ (See you soon in German)! \n\n\n— Children must be accompanied by adult. Please purchase one ticket for each guest attending. —
URL:https://www.teawithmrsb.com/event/german-tea-party-play/
LOCATION:Tea with Mrs. B\, 136 W. Jefferson St\, Falls Church\, VA\, 22046\, United States
ATTACH;FMTTYPE=image/jpeg:https://www.teawithmrsb.com/wp-content/uploads/2025/01/IMG_0018.jpeg
GEO:38.8872627;-77.1657816
X-APPLE-STRUCTURED-LOCATION;VALUE=URI;X-ADDRESS=Tea with Mrs. B 136 W. Jefferson St Falls Church VA 22046 United States;X-APPLE-RADIUS=500;X-TITLE=136 W. Jefferson St:geo:-77.1657816,38.8872627
END:VEVENT
END:VCALENDAR