BEGIN:VCALENDAR
VERSION:2.0
PRODID:-//Tea with Mrs.B - ECPv6.15.20//NONSGML v1.0//EN
CALSCALE:GREGORIAN
METHOD:PUBLISH
X-WR-CALNAME:Tea with Mrs.B
X-ORIGINAL-URL:https://www.teawithmrsb.com
X-WR-CALDESC:Events for Tea with Mrs.B
REFRESH-INTERVAL;VALUE=DURATION:PT1H
X-Robots-Tag:noindex
X-PUBLISHED-TTL:PT1H
BEGIN:VTIMEZONE
TZID:America/New_York
BEGIN:DAYLIGHT
TZOFFSETFROM:-0500
TZOFFSETTO:-0400
TZNAME:EDT
DTSTART:20240310T070000
END:DAYLIGHT
BEGIN:STANDARD
TZOFFSETFROM:-0400
TZOFFSETTO:-0500
TZNAME:EST
DTSTART:20241103T060000
END:STANDARD
BEGIN:DAYLIGHT
TZOFFSETFROM:-0500
TZOFFSETTO:-0400
TZNAME:EDT
DTSTART:20250309T070000
END:DAYLIGHT
BEGIN:STANDARD
TZOFFSETFROM:-0400
TZOFFSETTO:-0500
TZNAME:EST
DTSTART:20251102T060000
END:STANDARD
BEGIN:DAYLIGHT
TZOFFSETFROM:-0500
TZOFFSETTO:-0400
TZNAME:EDT
DTSTART:20260308T070000
END:DAYLIGHT
BEGIN:STANDARD
TZOFFSETFROM:-0400
TZOFFSETTO:-0500
TZNAME:EST
DTSTART:20261101T060000
END:STANDARD
END:VTIMEZONE
BEGIN:VEVENT
DTSTART;TZID=America/New_York:20250202T130000
DTEND;TZID=America/New_York:20250202T143000
DTSTAMP:20260423T163044
CREATED:20250104T211514Z
LAST-MODIFIED:20250105T001457Z
UID:10000813-1738501200-1738506600@www.teawithmrsb.com
SUMMARY:Ties & Tiaras Royal Ball with Horse-Drawn Carriage
DESCRIPTION:1-2:30pm\n$87 per person \n\n\nChildren and adults are cordially invited to join our Ties & Tiaras Royal Ball!  All guests will be treated to a resplendent tour through the neighborhood on a real\, horse-drawn Cinderella carriage! \nAn unforgettable experience designed to provide young ladies and gentlemen an engaging experience in a formal setting with their most beloved family and friends. Guests can enjoy desserts\, sparkling punch and a craft along with dancing in the grand ballroom. \nProfessional photos of each guest and of the event will be available to all guests\, one week after our event. \n\n\n 
URL:https://www.teawithmrsb.com/event/royal-ball-9/
LOCATION:Tea with Mrs. B\, 136 W. Jefferson St\, Falls Church\, VA\, 22046\, United States
ATTACH;FMTTYPE=image/jpeg:https://www.teawithmrsb.com/wp-content/uploads/2025/01/IMG_1635.jpeg
GEO:38.8872627;-77.1657816
X-APPLE-STRUCTURED-LOCATION;VALUE=URI;X-ADDRESS=Tea with Mrs. B 136 W. Jefferson St Falls Church VA 22046 United States;X-APPLE-RADIUS=500;X-TITLE=136 W. Jefferson St:geo:-77.1657816,38.8872627
END:VEVENT
END:VCALENDAR