BEGIN:VCALENDAR
VERSION:2.0
PRODID:-//Tea with Mrs.B - ECPv6.15.20//NONSGML v1.0//EN
CALSCALE:GREGORIAN
METHOD:PUBLISH
X-WR-CALNAME:Tea with Mrs.B
X-ORIGINAL-URL:https://www.teawithmrsb.com
X-WR-CALDESC:Events for Tea with Mrs.B
REFRESH-INTERVAL;VALUE=DURATION:PT1H
X-Robots-Tag:noindex
X-PUBLISHED-TTL:PT1H
BEGIN:VTIMEZONE
TZID:America/New_York
BEGIN:DAYLIGHT
TZOFFSETFROM:-0500
TZOFFSETTO:-0400
TZNAME:EDT
DTSTART:20220313T070000
END:DAYLIGHT
BEGIN:STANDARD
TZOFFSETFROM:-0400
TZOFFSETTO:-0500
TZNAME:EST
DTSTART:20221106T060000
END:STANDARD
BEGIN:DAYLIGHT
TZOFFSETFROM:-0500
TZOFFSETTO:-0400
TZNAME:EDT
DTSTART:20230312T070000
END:DAYLIGHT
BEGIN:STANDARD
TZOFFSETFROM:-0400
TZOFFSETTO:-0500
TZNAME:EST
DTSTART:20231105T060000
END:STANDARD
BEGIN:DAYLIGHT
TZOFFSETFROM:-0500
TZOFFSETTO:-0400
TZNAME:EDT
DTSTART:20240310T070000
END:DAYLIGHT
BEGIN:STANDARD
TZOFFSETFROM:-0400
TZOFFSETTO:-0500
TZNAME:EST
DTSTART:20241103T060000
END:STANDARD
END:VTIMEZONE
BEGIN:VEVENT
DTSTART;TZID=America/New_York:20231008T160000
DTEND;TZID=America/New_York:20231008T170000
DTSTAMP:20260422T150948
CREATED:20230907T160850Z
LAST-MODIFIED:20230907T163403Z
UID:10000606-1696780800-1696784400@www.teawithmrsb.com
SUMMARY:Manners and Etiquette Coaching (5-8yo)
DESCRIPTION:$78 per person (includes tea service)\n5-8 years old\n12 children maximum \nDo good manners really make a difference? Absolutely! \nThis is a monthly\, intensive course designed to refresh and enliven young children’s ability to live a fuller life through perfecting their behavior. Whether your child needs to strengthen his or her communication skills\, improve dining habits\, or be reminded of how to engage in social settings\, this is the course for it! \nMrs. B’s positive approach and time-tested lessons on dining etiquette and general comportment encourages children to bring the lessons home and make them their own. Each session is catered to the children in attendance\, but often include: \n– introductions\n– carrying on conversation\n– reading social queues\n– formal and informal table settings\n– verbal and written communication\n– serving ourselves and others\n– using utensils properly\n– anticipating and reacting kindly \nWe are passionate about teaching practical manners in the most engaging and impressionable way. Good manners\, after all\, are a ticket to elevated experiences and good times in life. The way one behaves is a gift to oneself and to others. \nThis is an excellent opportunity for children to make new friends\, learn new things\, and to practice navigating social gatherings with ease and joy. Please allow your child to join us. Mrs. B and her team are happy to help you bring out the best in your child.
URL:https://www.teawithmrsb.com/event/manners-and-etiquette-coaching-5-8yo-2/
LOCATION:Tea with Mrs. B\, 136 W. Jefferson St\, Falls Church\, VA\, 22046\, United States
ATTACH;FMTTYPE=image/jpeg:https://www.teawithmrsb.com/wp-content/uploads/2023/07/TWMB-500x300_14.jpg
GEO:38.8872627;-77.1657816
X-APPLE-STRUCTURED-LOCATION;VALUE=URI;X-ADDRESS=Tea with Mrs. B 136 W. Jefferson St Falls Church VA 22046 United States;X-APPLE-RADIUS=500;X-TITLE=136 W. Jefferson St:geo:-77.1657816,38.8872627
END:VEVENT
BEGIN:VEVENT
DTSTART;TZID=America/New_York:20231008T173000
DTEND;TZID=America/New_York:20231008T190000
DTSTAMP:20260422T150948
CREATED:20230907T162116Z
LAST-MODIFIED:20230907T190049Z
UID:10000607-1696786200-1696791600@www.teawithmrsb.com
SUMMARY:Manners and Etiquette (9-12yo)
DESCRIPTION:$78 per person (includes dinner)\n9-14 years old\n12 children maximum \nDo good manners really make a difference? Absolutely! \nThis is a unique opportunity for older children to improve their manners by building on what they have already learned. This is a monthly program designed to refresh the maturing child’s ability to live a fuller life through perfecting his or her own behavior. Whether your child needs to strengthen his or her communication skills\, improve dining habits\, or be reminded of how to engage in social settings\, this is the course for it! \nMrs. B guides students\, from start to finish\, in what are the best practices when it comes to social nuances and dining etiquette. The lessons are catered to the students in attendance\, but often include: \n– introductions\n– carrying on conversation\n– reading social queues\n– formal and informal table settings\n– verbal and written communication\n– serving ourselves and others\n– using utensils properly\n– anticipating and reacting kindly \nWe are passionate about teaching practical manners in the most engaging and impressionable way. Good manners\, after all\, are a ticket to elevated experiences and good times in life. The way one behaves is a gift to oneself and to others. \nThis is an excellent opportunity for children to make new friends\, learn new things\, and to practice navigating social gatherings with ease and joy. Please allow your child to join us. Mrs. B and her team are happy to help you bring out the best in your child.
URL:https://www.teawithmrsb.com/event/manners-and-etiquette-9-12yo-2/
LOCATION:Tea with Mrs. B\, 136 W. Jefferson St\, Falls Church\, VA\, 22046\, United States
ATTACH;FMTTYPE=image/jpeg:https://www.teawithmrsb.com/wp-content/uploads/2023/09/DSC_1667-scaled.jpg
GEO:38.8872627;-77.1657816
X-APPLE-STRUCTURED-LOCATION;VALUE=URI;X-ADDRESS=Tea with Mrs. B 136 W. Jefferson St Falls Church VA 22046 United States;X-APPLE-RADIUS=500;X-TITLE=136 W. Jefferson St:geo:-77.1657816,38.8872627
END:VEVENT
END:VCALENDAR